BEGIN:VCALENDAR
VERSION:2.0
PRODID:-//International Community School - ECPv6.1.3//NONSGML v1.0//EN
CALSCALE:GREGORIAN
METHOD:PUBLISH
X-WR-CALNAME:International Community School
X-ORIGINAL-URL:https://icsfla.org
X-WR-CALDESC:Events for International Community School
REFRESH-INTERVAL;VALUE=DURATION:PT1H
X-Robots-Tag:noindex
X-PUBLISHED-TTL:PT1H
BEGIN:VTIMEZONE
TZID:UTC
BEGIN:STANDARD
TZOFFSETFROM:+0000
TZOFFSETTO:+0000
TZNAME:UTC
DTSTART:20250101T000000
END:STANDARD
END:VTIMEZONE
BEGIN:VEVENT
DTSTART;TZID=UTC:20251104T084500
DTEND;TZID=UTC:20251104T093000
DTSTAMP:20260421T144259
CREATED:20250828T203019Z
LAST-MODIFIED:20250828T215004Z
UID:6993-1762245900-1762248600@icsfla.org
SUMMARY:MS Chapel 8:45am
DESCRIPTION:
URL:https://icsfla.org/event/ms-chapel-845am/
END:VEVENT
BEGIN:VEVENT
DTSTART;TZID=UTC:20251104T100000
DTEND;TZID=UTC:20251104T224500
DTSTAMP:20260421T144259
CREATED:20250828T194225Z
LAST-MODIFIED:20250828T215003Z
UID:6873-1762250400-1762296300@icsfla.org
SUMMARY:4th - 6th Chapel 10:00am
DESCRIPTION:
URL:https://icsfla.org/event/4th-6th-chapel-1000am-2/
END:VEVENT
BEGIN:VEVENT
DTSTART;TZID=UTC:20251104T104500
DTEND;TZID=UTC:20251104T113000
DTSTAMP:20260421T144259
CREATED:20250828T194223Z
LAST-MODIFIED:20250828T215003Z
UID:6869-1762253100-1762255800@icsfla.org
SUMMARY:1st - 3rd Chapel 10:45am
DESCRIPTION:
URL:https://icsfla.org/event/1st-3rd-chapel-1045am-2/
END:VEVENT
BEGIN:VEVENT
DTSTART;TZID=UTC:20251106T082000
DTEND;TZID=UTC:20251106T092000
DTSTAMP:20260421T144259
CREATED:20250828T195539Z
LAST-MODIFIED:20250828T215004Z
UID:6941-1762417200-1762420800@icsfla.org
SUMMARY:HS Chapel 8:20am
DESCRIPTION:
URL:https://icsfla.org/event/hs-chapel-820am-92/
END:VEVENT
BEGIN:VEVENT
DTSTART;TZID=UTC:20251107T080000
DTEND;TZID=UTC:20251107T160000
DTSTAMP:20260421T144259
CREATED:20250828T200055Z
LAST-MODIFIED:20250828T215017Z
UID:6974-1762502400-1762531200@icsfla.org
SUMMARY:HS Theatre Production
DESCRIPTION:
URL:https://icsfla.org/event/hs-theatre-production/
END:VEVENT
BEGIN:VEVENT
DTSTART;TZID=UTC:20251108T080000
DTEND;TZID=UTC:20251108T160000
DTSTAMP:20260421T144259
CREATED:20250828T200055Z
LAST-MODIFIED:20250828T215018Z
UID:6975-1762588800-1762617600@icsfla.org
SUMMARY:HS Theatre Production
DESCRIPTION:
URL:https://icsfla.org/event/hs-theatre-production-2/
END:VEVENT
BEGIN:VEVENT
DTSTART;VALUE=DATE:20251111
DTEND;VALUE=DATE:20251112
DTSTAMP:20260421T144259
CREATED:20250828T204604Z
LAST-MODIFIED:20250828T215018Z
UID:7066-1762819200-1762905599@icsfla.org
SUMMARY:Community Meeting 7pm-8pm
DESCRIPTION:
URL:https://icsfla.org/event/community-meeting-7pm-8pm-31/
END:VEVENT
BEGIN:VEVENT
DTSTART;VALUE=DATE:20251111
DTEND;VALUE=DATE:20251112
DTSTAMP:20260421T144259
CREATED:20250828T204604Z
LAST-MODIFIED:20250828T215018Z
UID:7065-1762819200-1762905599@icsfla.org
SUMMARY:Breakout Groups 6:00pm & 8:10pm
DESCRIPTION:
URL:https://icsfla.org/event/breakout-groups-600pm-810pm-12/
END:VEVENT
BEGIN:VEVENT
DTSTART;VALUE=DATE:20251113
DTEND;VALUE=DATE:20251114
DTSTAMP:20260421T144259
CREATED:20250828T204604Z
LAST-MODIFIED:20250828T215018Z
UID:7067-1762992000-1763078399@icsfla.org
SUMMARY:Dress Up Day
DESCRIPTION:
URL:https://icsfla.org/event/dress-up-day-8/
END:VEVENT
BEGIN:VEVENT
DTSTART;VALUE=DATE:20251113
DTEND;VALUE=DATE:20251114
DTSTAMP:20260421T144259
CREATED:20250828T204805Z
LAST-MODIFIED:20250828T215032Z
UID:7069-1762992000-1763078399@icsfla.org
SUMMARY:PreK-12th Individual Pictures
DESCRIPTION:
URL:https://icsfla.org/event/prek-12th-individual-pictures-8/
END:VEVENT
BEGIN:VEVENT
DTSTART;TZID=UTC:20251113T082000
DTEND;TZID=UTC:20251113T092000
DTSTAMP:20260421T144259
CREATED:20250828T195553Z
LAST-MODIFIED:20250828T215032Z
UID:6942-1763022000-1763025600@icsfla.org
SUMMARY:HS Chapel 8:20am
DESCRIPTION:
URL:https://icsfla.org/event/hs-chapel-820am-93/
END:VEVENT
BEGIN:VEVENT
DTSTART;TZID=UTC:20251114T080000
DTEND;TZID=UTC:20251114T160000
DTSTAMP:20260421T144259
CREATED:20250828T203016Z
LAST-MODIFIED:20250828T215032Z
UID:6992-1763107200-1763136000@icsfla.org
SUMMARY:Mother & Son Fun Night
DESCRIPTION:
URL:https://icsfla.org/event/mother-son-fun-night/
END:VEVENT
BEGIN:VEVENT
DTSTART;TZID=UTC:20251118T080000
DTEND;TZID=UTC:20251118T160000
DTSTAMP:20260421T144259
CREATED:20250828T195854Z
LAST-MODIFIED:20250828T215033Z
UID:6970-1763452800-1763481600@icsfla.org
SUMMARY:HS Preview Night
DESCRIPTION:
URL:https://icsfla.org/event/hs-preview-night-7/
END:VEVENT
BEGIN:VEVENT
DTSTART;TZID=UTC:20251120T080000
DTEND;TZID=UTC:20251120T160000
DTSTAMP:20260421T144259
CREATED:20250828T203106Z
LAST-MODIFIED:20250828T215047Z
UID:7012-1763625600-1763654400@icsfla.org
SUMMARY:PreK & K Thanksgiving Presentation 10am
DESCRIPTION:
URL:https://icsfla.org/event/prek-k-thanksgiving-presentation-10am-2/
END:VEVENT
BEGIN:VEVENT
DTSTART;TZID=UTC:20251120T082000
DTEND;TZID=UTC:20251120T092000
DTSTAMP:20260421T144259
CREATED:20250828T195553Z
LAST-MODIFIED:20250828T215033Z
UID:6943-1763626800-1763630400@icsfla.org
SUMMARY:HS Chapel 8:20am
DESCRIPTION:
URL:https://icsfla.org/event/hs-chapel-820am-94/
END:VEVENT
BEGIN:VEVENT
DTSTART;TZID=UTC:20251121T084500
DTEND;TZID=UTC:20251121T114500
DTSTAMP:20260421T144259
CREATED:20250828T195453Z
LAST-MODIFIED:20250828T215047Z
UID:6923-1763714700-1763725500@icsfla.org
SUMMARY:Field Day
DESCRIPTION:
URL:https://icsfla.org/event/field-day-7/
END:VEVENT
BEGIN:VEVENT
DTSTART;VALUE=DATE:20251123
DTEND;VALUE=DATE:20251130
DTSTAMP:20260421T144259
CREATED:20250828T205005Z
LAST-MODIFIED:20250828T215048Z
UID:7075-1763856000-1764460799@icsfla.org
SUMMARY:Thanksgiving Break - School Closed
DESCRIPTION:
URL:https://icsfla.org/event/thanksgiving-break-school-closed-9/
END:VEVENT
END:VCALENDAR