BEGIN:VCALENDAR
VERSION:2.0
PRODID:-//International Community School - ECPv6.1.3//NONSGML v1.0//EN
CALSCALE:GREGORIAN
METHOD:PUBLISH
X-ORIGINAL-URL:https://icsfla.org
X-WR-CALDESC:Events for International Community School
REFRESH-INTERVAL;VALUE=DURATION:PT1H
X-Robots-Tag:noindex
X-PUBLISHED-TTL:PT1H
BEGIN:VTIMEZONE
TZID:UTC
BEGIN:STANDARD
TZOFFSETFROM:+0000
TZOFFSETTO:+0000
TZNAME:UTC
DTSTART:20200101T000000
END:STANDARD
END:VTIMEZONE
BEGIN:VEVENT
DTSTART;TZID=UTC:20200131T000000
DTEND;TZID=UTC:20200131T000000
DTSTAMP:20260422T133535
CREATED:20190808T134737Z
LAST-MODIFIED:20190808T134737Z
UID:5809-1580428800-1580428800@icsfla.org
SUMMARY:Homecoming Basketball Game
DESCRIPTION:
URL:https://icsfla.org/event/homecoming-basketball-game-4/
CATEGORIES:Athletic Events
END:VEVENT
END:VCALENDAR