BEGIN:VCALENDAR
VERSION:2.0
PRODID:-//International Community School - ECPv6.1.3//NONSGML v1.0//EN
CALSCALE:GREGORIAN
METHOD:PUBLISH
X-WR-CALNAME:International Community School
X-ORIGINAL-URL:https://icsfla.org
X-WR-CALDESC:Events for International Community School
REFRESH-INTERVAL;VALUE=DURATION:PT1H
X-Robots-Tag:noindex
X-PUBLISHED-TTL:PT1H
BEGIN:VTIMEZONE
TZID:UTC
BEGIN:STANDARD
TZOFFSETFROM:+0000
TZOFFSETTO:+0000
TZNAME:UTC
DTSTART:20260101T000000
END:STANDARD
END:VTIMEZONE
BEGIN:VEVENT
DTSTART;TZID=UTC:20260421T091500
DTEND;TZID=UTC:20260421T221500
DTSTAMP:20260421T024556
CREATED:20250828T203120Z
LAST-MODIFIED:20250828T215433Z
UID:7016-1776762900-1776809700@icsfla.org
SUMMARY:Rising 4th Grade Parent Meeting 9:15am
DESCRIPTION:
URL:https://icsfla.org/event/rising-4th-grade-parent-meeting-915am/
END:VEVENT
BEGIN:VEVENT
DTSTART;TZID=UTC:20260421T141500
DTEND;TZID=UTC:20260421T150000
DTSTAMP:20260421T024556
CREATED:20250828T203120Z
LAST-MODIFIED:20250828T215632Z
UID:7017-1776780900-1776783600@icsfla.org
SUMMARY:Rising 7th Grade Parent Meeting 2:15pm
DESCRIPTION:
URL:https://icsfla.org/event/rising-7th-grade-parent-meeting-215pm/
END:VEVENT
END:VCALENDAR