BEGIN:VCALENDAR
VERSION:2.0
PRODID:-//International Community School - ECPv6.1.3//NONSGML v1.0//EN
CALSCALE:GREGORIAN
METHOD:PUBLISH
X-ORIGINAL-URL:https://icsfla.org
X-WR-CALDESC:Events for International Community School
REFRESH-INTERVAL;VALUE=DURATION:PT1H
X-Robots-Tag:noindex
X-PUBLISHED-TTL:PT1H
BEGIN:VTIMEZONE
TZID:UTC
BEGIN:STANDARD
TZOFFSETFROM:+0000
TZOFFSETTO:+0000
TZNAME:UTC
DTSTART:20250101T000000
END:STANDARD
END:VTIMEZONE
BEGIN:VEVENT
DTSTART;VALUE=DATE:20251216
DTEND;VALUE=DATE:20251217
DTSTAMP:20260421T144412
CREATED:20250828T205405Z
LAST-MODIFIED:20250828T215118Z
UID:7086-1765843200-1765929599@icsfla.org
SUMMARY:Staff & Teacher Christmas Luncheon
DESCRIPTION:
URL:https://icsfla.org/event/staff-teacher-christmas-luncheon-7/
END:VEVENT
BEGIN:VEVENT
DTSTART;TZID=UTC:20251216T082000
DTEND;TZID=UTC:20251216T152000
DTSTAMP:20260421T144412
CREATED:20250828T195653Z
LAST-MODIFIED:20250828T215118Z
UID:6962-1765873200-1765898400@icsfla.org
SUMMARY:HS Exams
DESCRIPTION:
URL:https://icsfla.org/event/hs-exams-25/
END:VEVENT
END:VCALENDAR