BEGIN:VCALENDAR
VERSION:2.0
PRODID:-//International Community School - ECPv6.1.3//NONSGML v1.0//EN
CALSCALE:GREGORIAN
METHOD:PUBLISH
X-ORIGINAL-URL:https://icsfla.org
X-WR-CALDESC:Events for International Community School
REFRESH-INTERVAL;VALUE=DURATION:PT1H
X-Robots-Tag:noindex
X-PUBLISHED-TTL:PT1H
BEGIN:VTIMEZONE
TZID:UTC
BEGIN:STANDARD
TZOFFSETFROM:+0000
TZOFFSETTO:+0000
TZNAME:UTC
DTSTART:20250101T000000
END:STANDARD
END:VTIMEZONE
BEGIN:VEVENT
DTSTART;VALUE=DATE:20251202
DTEND;VALUE=DATE:20251203
DTSTAMP:20260421T144322
CREATED:20250828T205006Z
LAST-MODIFIED:20250828T215048Z
UID:7077-1764633600-1764719999@icsfla.org
SUMMARY:On Campus Classes Resume
DESCRIPTION:
URL:https://icsfla.org/event/on-campus-classes-resume-22/
END:VEVENT
END:VCALENDAR