BEGIN:VCALENDAR
VERSION:2.0
PRODID:-//International Community School - ECPv6.1.3//NONSGML v1.0//EN
CALSCALE:GREGORIAN
METHOD:PUBLISH
X-WR-CALNAME:International Community School
X-ORIGINAL-URL:https://icsfla.org
X-WR-CALDESC:Events for International Community School
REFRESH-INTERVAL;VALUE=DURATION:PT1H
X-Robots-Tag:noindex
X-PUBLISHED-TTL:PT1H
BEGIN:VTIMEZONE
TZID:UTC
BEGIN:STANDARD
TZOFFSETFROM:+0000
TZOFFSETTO:+0000
TZNAME:UTC
DTSTART:20250101T000000
END:STANDARD
END:VTIMEZONE
BEGIN:VEVENT
DTSTART;TZID=UTC:20250911T082000
DTEND;TZID=UTC:20250911T092000
DTSTAMP:20260421T192444
CREATED:20250828T195525Z
LAST-MODIFIED:20250828T214902Z
UID:6936-1757578800-1757582400@icsfla.org
SUMMARY:HS Chapel 8:20am
DESCRIPTION:
URL:https://icsfla.org/event/hs-chapel-820am-87/
END:VEVENT
BEGIN:VEVENT
DTSTART;TZID=UTC:20250911T100000
DTEND;TZID=UTC:20250911T224500
DTSTAMP:20260421T192444
CREATED:20250828T194224Z
LAST-MODIFIED:20250828T214902Z
UID:6872-1757584800-1757630700@icsfla.org
SUMMARY:4th - 6th Chapel 10:00am
DESCRIPTION:
URL:https://icsfla.org/event/4th-6th-chapel-1000am/
END:VEVENT
BEGIN:VEVENT
DTSTART;TZID=UTC:20250911T104500
DTEND;TZID=UTC:20250911T113000
DTSTAMP:20260421T192444
CREATED:20250828T194222Z
LAST-MODIFIED:20250828T214901Z
UID:6868-1757587500-1757590200@icsfla.org
SUMMARY:1st - 3rd Chapel 10:45am
DESCRIPTION:
URL:https://icsfla.org/event/1st-3rd-chapel-1045am/
END:VEVENT
END:VCALENDAR