BEGIN:VCALENDAR
VERSION:2.0
PRODID:-//International Community School - ECPv6.1.3//NONSGML v1.0//EN
CALSCALE:GREGORIAN
METHOD:PUBLISH
X-ORIGINAL-URL:https://icsfla.org
X-WR-CALDESC:Events for International Community School
REFRESH-INTERVAL;VALUE=DURATION:PT1H
X-Robots-Tag:noindex
X-PUBLISHED-TTL:PT1H
BEGIN:VTIMEZONE
TZID:UTC
BEGIN:STANDARD
TZOFFSETFROM:+0000
TZOFFSETTO:+0000
TZNAME:UTC
DTSTART:20240101T000000
END:STANDARD
END:VTIMEZONE
BEGIN:VEVENT
DTSTART;VALUE=DATE:20240229
DTEND;VALUE=DATE:20240301
DTSTAMP:20260422T070802
CREATED:20230829T162640Z
LAST-MODIFIED:20230829T162640Z
UID:6622-1709164800-1709251199@icsfla.org
SUMMARY:Black & White Candid Photos
DESCRIPTION:
URL:https://icsfla.org/event/black-white-candid-photos-6/
END:VEVENT
BEGIN:VEVENT
DTSTART;VALUE=DATE:20240229
DTEND;VALUE=DATE:20240301
DTSTAMP:20260422T070802
CREATED:20230829T162640Z
LAST-MODIFIED:20230829T162640Z
UID:6620-1709164800-1709251199@icsfla.org
SUMMARY:Dress Down Day
DESCRIPTION:
URL:https://icsfla.org/event/dress-down-day-39/
END:VEVENT
END:VCALENDAR