BEGIN:VCALENDAR
VERSION:2.0
PRODID:-//International Community School - ECPv6.1.3//NONSGML v1.0//EN
CALSCALE:GREGORIAN
METHOD:PUBLISH
X-WR-CALNAME:International Community School
X-ORIGINAL-URL:https://icsfla.org
X-WR-CALDESC:Events for International Community School
REFRESH-INTERVAL;VALUE=DURATION:PT1H
X-Robots-Tag:noindex
X-PUBLISHED-TTL:PT1H
BEGIN:VTIMEZONE
TZID:UTC
BEGIN:STANDARD
TZOFFSETFROM:+0000
TZOFFSETTO:+0000
TZNAME:UTC
DTSTART:20240101T000000
END:STANDARD
END:VTIMEZONE
BEGIN:VEVENT
DTSTART;VALUE=DATE:20240109
DTEND;VALUE=DATE:20240110
DTSTAMP:20260422T040949
CREATED:20230829T162440Z
LAST-MODIFIED:20230829T162440Z
UID:6581-1704758400-1704844799@icsfla.org
SUMMARY:Current Family Registration Begins
DESCRIPTION:
URL:https://icsfla.org/event/current-family-registration-begins-6/
END:VEVENT
BEGIN:VEVENT
DTSTART;TZID=UTC:20240109T200000
DTEND;TZID=UTC:20240109T200000
DTSTAMP:20260422T040949
CREATED:20230829T162440Z
LAST-MODIFIED:20230829T162440Z
UID:6582-1704830400-1704830400@icsfla.org
SUMMARY:Community Meeting 7pm-8pm
DESCRIPTION:
URL:https://icsfla.org/event/community-meeting-7pm-8pm-22/
END:VEVENT
BEGIN:VEVENT
DTSTART;TZID=UTC:20240109T201000
DTEND;TZID=UTC:20240109T201000
DTSTAMP:20260422T040949
CREATED:20230829T162441Z
LAST-MODIFIED:20230829T162441Z
UID:6583-1704831000-1704831000@icsfla.org
SUMMARY:Breakout Groups 6:00pm & 8:10pm
DESCRIPTION:
URL:https://icsfla.org/event/breakout-groups-600pm-810pm-3/
END:VEVENT
END:VCALENDAR